Workbook
Name _ftn1: รายรับ!#REF!
Name _ftnref1: รายรับ!$B$4

Sheet รายรับ
A1: รายละเอียดรายรับ | B1: ปีงบประมาณ | H1: จำนวนนักศึกษา
B2: 2570 | C2: 2571 | D2: 2572 | E2: 2573 | F2: 2574 | H2: ที่รับต่อปี
A3: เงินงบประมาณแผ่นดิน | H3: (เท่ากันทุกปี)
A4: งบดำเนินการ | B4: =I5*I1 -> 0 | C4: =(I5*I1)*2 -> 0 | D4: =(I5*I1)*3 -> 0 | E4: =(I5*I1)*4 -> 0 | F4: =(I5*I1)*4 -> 0
A5: เงินบำรุงการศึกษา | B5: =L5*I1*2 -> 0 | C5: =L5*(I1*2)*2 -> 0 | D5: =L5*(I1*3)*2 -> 0 | E5: =L5*(I1*4)*2 -> 0 | F5: =L5*(I1*4)*2 -> 0 | H5: เงินงบประมาณ | K5: ค่าธรรมเนียม
A6: รวมรายรับ | B6: =SUM(B4:B5) -> 0 | C6: =SUM(C4:C5) -> 0 | D6: =SUM(D4:D5) -> 0 | E6: =SUM(E4:E5) -> 0 | F6: =SUM(F4:F5) -> 0 | H6: แผ่นดิน | K6: แบบเหมาจ่าย
H7: งบดำเนินการ | K7: ตามประกาศ
A8: ระบุข้อมูลในช่องสีเหลืองเท่านั้น
A10: ข้อมูลสำหรับพิจารณาเพื่อนำไปใช้ในการระบุจำนวนเงิน
A11: เงินงบประมาณแผ่นดิน งบดำเนินการ
A12: ผู้สำเร็จการศึกษาด้านสังคมศาสตร์ | C12: 800 | D12: บาท
A13: ผู้สำเร็จการศึกษาด้านวิทยาศาสตร์และเทคโนโลยี | C13: 3000 | D13: บาท
A14: ผู้สำเร็จการศึกษาด้านวิทยาศาสตร์สุขภาพ | C14: 6000 | D14: บาท

Sheet รายจ่าย
A1: หมวดเงิน | B1: ปีงบประมาณ | K1: 1/1 | L1: 26250 | N1: =IF(((L1+L2)/2)>26250,"630,000","315,000") -> 315,000 | O1: 18900 | P1: 20035 | Q1: 21240 | R1: 22510 | T1: หลักสูตรกำหนดให้มีรายจ่ายงบดำเนินการ ดังนี้
B2: 2570 | C2: 2571 | D2: 2572 | E2: 2573 | F2: 2574 | K2: 1/2 | L2: =I1 -> 0 | M2: =L2*12 -> 0 | O2: =O1*2 -> 37800 | P2: =P1*2 -> 40070 | Q2: =Q1*2 -> 42480 | R2: =R1*2 -> 45020 | T2: ค่าตอบแทน | U2: 40 | V2: เปอร์เซ็นต์
A3: งบดำเนินการ | K3: 2/2 | L3: =I1 -> 0 | M3: =L3*12 -> 0 | T3: ค่าใช้สอย | U3: 20 | V3: เปอร์เซ็นต์
A4: - ค่าตอบแทน | B4: =(รายรับ!B5*(U2/100)) -> 0 | C4: =(รายรับ!C5*(U2/100)) -> 0 | D4: =(รายรับ!D5*(U2/100)) -> 0 | E4: =(รายรับ!E5*(U2/100)) -> 0 | F4: =(รายรับ!F5*(U2/100)) -> 0 | K4: 3/1 | L4: =I1 -> 0 | M4: =L4*12 -> 0 | N4: =IF(((L4+L5)/2)>26250,"707,870","353,935") -> 353,935 | T4: ค่าวัสดุ | U4: 20 | V4: เปอร์เซ็นต์
A5: - ค่าใช้สอย | B5: =(รายรับ!B5*(U3/100)) -> 0 | C5: =(รายรับ!C5*(U3/100)) -> 0 | D5: =(รายรับ!D5*(U3/100)) -> 0 | E5: =(รายรับ!E5*(U3/100)) -> 0 | F5: =(รายรับ!F5*(U3/100)) -> 0 | K5: 3/2 | L5: =I1 -> 0 | M5: =L5*12 -> 0 | T5: ผลรวมไม่เกิน 80 เปอร์เซ็นต์
A6: - ค่าวัสดุ | B6: =(รายรับ!B5*(U4/100)) -> 0 | C6: =(รายรับ!C5*(U4/100)) -> 0 | D6: =(รายรับ!D5*(U4/100)) -> 0 | E6: =(รายรับ!E5*(U4/100)) -> 0 | F6: =(รายรับ!F5*(U4/100)) -> 0 | K6: 4/1 | L6: 0 | M6: =L6*12 -> 0 | N6: =IF(((L6+L7)/2)>26250,"750,340","375,170") -> 375,170 | O6: 397680 | T6: ระบุข้อมูลในช่องสีเหลืองเท่านั้น
A7: - ค่าดำเนินการระดับมหาวิทยาลัย | B7: =รายรับ!B5*20% -> 0 | C7: =รายรับ!C5*20% -> 0 | D7: =รายรับ!D5*20% -> 0 | E7: =รายรับ!E5*20% -> 0 | F7: =รายรับ!F5*20% -> 0 | K7: 4/2 | L7: =I1 -> 0 | M7: =L7*12 -> 0
A8: รวมรายจ่าย | B8: =B4+B5+B6+B7 -> 0 | C8: =C4+C5+C6+C7 -> 0 | D8: =D4+D5+D6+D7 -> 0 | E8: =E4+E5+E6+E7 -> 0 | F8: =F4+F5+F6+F7 -> 0 | K8: 2/1 | L8: =IF(#REF!<13,"26,250","52,500") -> #REF! | M8: =L8*12 -> #REF! | N8: =IF(((L8+#REF!)/2)>26250,"667,800","333,900") -> #REF! | O8: =IF((#REF!>"315,000"),"667,800","333,900") -> #REF! | T8: หรือ
A9: จำนวนนิสิตนักศึกษา | B9: =รายรับ!I1 -> 0 | C9: =รายรับ!I1*2 -> 0 | D9: =รายรับ!I1*3 -> 0 | E9: =รายรับ!I1*4 -> 0 | F9: =รายรับ!I1*4 -> 0 | T9: หลักสูตรสามารถกำหนดตัวเลขงบประมาณ ในส่วนของงบดำเนินการได้เองโดยไม่ต้องคิดเปอร์เซ็นต์ก็ได้โดยพิจารณาจากข้อมูลที่คาดว่าจะดำเนินการในแต่ละปี
A10: ค่าใช้จ่ายต่อหัวในการผลิตบัณฑิต | B10: =B8/B9 -> #DIV/0! | C10: =C8/C9 -> #DIV/0! | D10: =D8/D9 -> #DIV/0! | E10: =E8/E9 -> #DIV/0! | F10: =F8/F9 -> #DIV/0! | N10: =IF(((#REF!+#REF!)/2)>26250,"707,870","353,935") -> #REF! | O10: =IF((N8>"333,900"),"707,870","353,935") -> #REF! | P10: =IF((#REF!>"315,000"),"707,870","353,935") -> #REF!
N12: =IF(((#REF!+#REF!)/2)>26250,"750,340","375,170") -> #REF! | O12: =IF(((#REF!+#REF!)/2)>26250,"795,360","397,680") -> #REF!
O13: =IF((N10>"353,935"),"750,340","375,170") -> #REF! | P13: =IF((N8>"333,900"),"750,340","375,170") -> #REF! | Q13: =IF((#REF!>"315,000"),"750,340","375,170") -> #REF!
O14: =IF((N10>"353,935"),"795,360","397,680") -> #REF! | P14: =IF((N8>"333,900"),"795,360","397,680") -> #REF! | Q14: =IF((#REF!>"315,000"),"795,360","397,680") -> #REF!
